Package: CCPlotR Version: 1.8.0 Command: /home/biocbuild/R/R/bin/R CMD INSTALL CCPlotR StartedAt: 2025-11-10 21:20:53 -0000 (Mon, 10 Nov 2025) EndedAt: 2025-11-10 21:21:10 -0000 (Mon, 10 Nov 2025) EllapsedTime: 17.5 seconds RetCode: 0 Status: OK