Package: CCPlotR Version: 1.8.0 Command: /home/biocbuild/R/R/bin/R CMD build --keep-empty-dirs --no-resave-data CCPlotR StartedAt: 2025-11-14 00:21:05 -0000 (Fri, 14 Nov 2025) EndedAt: 2025-11-14 00:22:04 -0000 (Fri, 14 Nov 2025) EllapsedTime: 59.0 seconds RetCode: 0 Status: OK PackageFile: CCPlotR_1.8.0.tar.gz PackageFileSize: 3.386 MiB