Package: CCPlotR Version: 1.6.0 Command: /Library/Frameworks/R.framework/Resources/bin/R CMD build --keep-empty-dirs --no-resave-data CCPlotR StartedAt: 2025-09-25 17:41:03 -0400 (Thu, 25 Sep 2025) EndedAt: 2025-09-25 17:42:25 -0400 (Thu, 25 Sep 2025) EllapsedTime: 81.8 seconds RetCode: 0 Status: OK PackageFile: CCPlotR_1.6.0.tar.gz PackageFileSize: 4.948 MiB