Package: CCPlotR Version: 1.6.0 Command: /home/biocbuild/R/R/bin/R CMD INSTALL CCPlotR StartedAt: 2025-09-25 20:27:46 -0000 (Thu, 25 Sep 2025) EndedAt: 2025-09-25 20:28:05 -0000 (Thu, 25 Sep 2025) EllapsedTime: 19.6 seconds RetCode: 0 Status: OK