Package: CCPROMISE Version: 1.36.0 Command: /home/biocbuild/R/R/bin/R CMD INSTALL CCPROMISE StartedAt: 2025-11-10 22:09:48 -0000 (Mon, 10 Nov 2025) EndedAt: 2025-11-10 22:10:08 -0000 (Mon, 10 Nov 2025) EllapsedTime: 19.7 seconds RetCode: 0 Status: OK