Package: CCPROMISE Version: 1.36.0 Command: /home/biocbuild/R/R/bin/R CMD build --keep-empty-dirs --no-resave-data CCPROMISE StartedAt: 2025-11-11 00:16:14 -0000 (Tue, 11 Nov 2025) EndedAt: 2025-11-11 00:17:06 -0000 (Tue, 11 Nov 2025) EllapsedTime: 52.0 seconds RetCode: 0 Status: OK PackageFile: CCPROMISE_1.36.0.tar.gz PackageFileSize: 1.028 MiB