Package: CCPROMISE Version: 1.36.0 Command: /home/biocbuild/bbs-3.22-bioc/R/bin/R CMD check --install=check:CCPROMISE.install-out.txt --library=/home/biocbuild/bbs-3.22-bioc/R/site-library --timings CCPROMISE_1.36.0.tar.gz StartedAt: 2025-11-11 21:59:39 -0500 (Tue, 11 Nov 2025) EndedAt: 2025-11-11 22:02:36 -0500 (Tue, 11 Nov 2025) EllapsedTime: 177.3 seconds RetCode: 0 Status: WARNINGS CheckDir: CCPROMISE.Rcheck Warnings: 1