Package: CCPROMISE Version: 1.36.0 Command: /home/biocbuild/bbs-3.22-bioc/R/bin/R CMD build --keep-empty-dirs --no-resave-data --md5 CCPROMISE StartedAt: 2025-11-11 16:45:24 -0500 (Tue, 11 Nov 2025) EndedAt: 2025-11-11 16:46:02 -0500 (Tue, 11 Nov 2025) EllapsedTime: 38.0 seconds RetCode: 0 Status: OK PackageFile: CCPROMISE_1.36.0.tar.gz PackageFileSize: 1.031 MiB