Package: CCPROMISE Version: 1.34.0 Command: /home/biocbuild/bbs-3.21-bioc/R/bin/R CMD INSTALL CCPROMISE StartedAt: 2025-09-28 16:13:14 -0400 (Sun, 28 Sep 2025) EndedAt: 2025-09-28 16:13:28 -0400 (Sun, 28 Sep 2025) EllapsedTime: 14.7 seconds RetCode: 0 Status: OK