Package: CCPROMISE Version: 1.34.0 Command: /Library/Frameworks/R.framework/Resources/bin/R CMD build --keep-empty-dirs --no-resave-data CCPROMISE StartedAt: 2025-09-29 17:41:18 -0400 (Mon, 29 Sep 2025) EndedAt: 2025-09-29 17:42:43 -0400 (Mon, 29 Sep 2025) EllapsedTime: 85.2 seconds RetCode: 0 Status: OK PackageFile: CCPROMISE_1.34.0.tar.gz PackageFileSize: 1.03 MiB