Package: CCPROMISE Version: 1.34.0 Command: rm -rf CCPROMISE.buildbin-libdir && mkdir CCPROMISE.buildbin-libdir && /Users/biocbuild/BBS/utils/build-universal.sh CCPROMISE_1.34.0.tar.gz /Library/Frameworks/R.framework/Resources/bin/R CCPROMISE.buildbin-libdir StartedAt: 2025-09-27 16:45:10 -0400 (Sat, 27 Sep 2025) EndedAt: 2025-09-27 16:45:29 -0400 (Sat, 27 Sep 2025) EllapsedTime: 19.1 seconds RetCode: 0 Status: OK PackageFile: CCPROMISE_1.34.0.tgz PackageFileSize: 1.08 MiB