Package: CCAFE Version: 1.0.0 Command: /home/biocbuild/bbs-3.21-bioc/R/bin/R CMD INSTALL CCAFE StartedAt: 2025-10-12 15:41:31 -0400 (Sun, 12 Oct 2025) EndedAt: 2025-10-12 15:41:34 -0400 (Sun, 12 Oct 2025) EllapsedTime: 3.2 seconds RetCode: 0 Status: OK