Package: CCAFE Version: 1.2.0 Command: /Library/Frameworks/R.framework/Resources/bin/R CMD INSTALL CCAFE StartedAt: 2025-11-03 15:43:14 -0500 (Mon, 03 Nov 2025) EndedAt: 2025-11-03 15:43:20 -0500 (Mon, 03 Nov 2025) EllapsedTime: 5.9 seconds RetCode: 0 Status: OK