Package: CCAFE Version: 1.0.0 Command: /Library/Frameworks/R.framework/Resources/bin/R CMD INSTALL CCAFE StartedAt: 2025-10-13 17:23:24 -0400 (Mon, 13 Oct 2025) EndedAt: 2025-10-13 17:23:29 -0400 (Mon, 13 Oct 2025) EllapsedTime: 4.6 seconds RetCode: 0 Status: OK