Package: CCAFE Version: 1.0.0 Maintainer: Hayley Wolff MaintainerEmail: hayley.wolff at cuanschutz.edu git_url: https://git.bioconductor.org/packages/CCAFE git_branch: RELEASE_3_21 git_last_commit: 9e9c818 git_last_commit_date: 2025-04-15 13:50:03 -0400 (Tue, 15 Apr 2025)