Package: CBNplot Version: 1.10.0 Command: /home/biocbuild/R/R/bin/R CMD INSTALL CBNplot StartedAt: 2025-11-10 22:03:42 -0000 (Mon, 10 Nov 2025) EndedAt: 2025-11-10 22:04:24 -0000 (Mon, 10 Nov 2025) EllapsedTime: 42.3 seconds RetCode: 0 Status: OK