Package: CBNplot Version: 1.10.0 Command: /home/biocbuild/R/R/bin/R CMD build --keep-empty-dirs --no-resave-data CBNplot StartedAt: 2025-11-11 00:15:16 -0000 (Tue, 11 Nov 2025) EndedAt: 2025-11-11 00:16:48 -0000 (Tue, 11 Nov 2025) EllapsedTime: 92.0 seconds RetCode: 0 Status: OK PackageFile: CBNplot_1.10.0.tar.gz PackageFileSize: 687 KiB