Package: CBNplot Version: 1.8.0 Command: rm -rf CBNplot.buildbin-libdir && mkdir CBNplot.buildbin-libdir && E:\biocbuild\bbs-3.21-bioc\R\bin\R.exe CMD INSTALL --build --library=CBNplot.buildbin-libdir CBNplot_1.8.0.tar.gz StartedAt: 2025-08-15 08:55:54 -0400 (Fri, 15 Aug 2025) EndedAt: 2025-08-15 08:56:32 -0400 (Fri, 15 Aug 2025) EllapsedTime: 38.7 seconds RetCode: 0 Status: OK PackageFile: CBNplot_1.8.0.zip PackageFileSize: 799.7 KiB