Package: CBNplot Version: 1.10.0 Command: /home/biocbuild/bbs-3.22-bioc/R/bin/R CMD build --keep-empty-dirs --no-resave-data --md5 CBNplot StartedAt: 2025-11-11 16:44:21 -0500 (Tue, 11 Nov 2025) EndedAt: 2025-11-11 16:45:24 -0500 (Tue, 11 Nov 2025) EllapsedTime: 63.0 seconds RetCode: 0 Status: OK PackageFile: CBNplot_1.10.0.tar.gz PackageFileSize: 1.023 MiB