Package: CBNplot Version: 1.8.0 Command: rm -rf CBNplot.buildbin-libdir && mkdir CBNplot.buildbin-libdir && /Users/biocbuild/BBS/utils/build-universal.sh CBNplot_1.8.0.tar.gz /Library/Frameworks/R.framework/Resources/bin/R CBNplot.buildbin-libdir StartedAt: 2025-09-26 13:05:22 -0400 (Fri, 26 Sep 2025) EndedAt: 2025-09-26 13:06:42 -0400 (Fri, 26 Sep 2025) EllapsedTime: 79.9 seconds RetCode: 0 Status: OK PackageFile: CBNplot_1.8.0.tgz PackageFileSize: 1.133 MiB