Package: CBNplot Version: 1.8.0 Command: /home/biocbuild/R/R/bin/R CMD check --install=check:CBNplot.install-out.txt --library=/home/biocbuild/R/R/site-library --no-vignettes --timings CBNplot_1.8.0.tar.gz StartedAt: 2025-10-14 07:11:58 -0000 (Tue, 14 Oct 2025) EndedAt: 2025-10-14 07:19:25 -0000 (Tue, 14 Oct 2025) EllapsedTime: 447.3 seconds RetCode: 0 Status: OK CheckDir: CBNplot.Rcheck Warnings: 0