Package: CBNplot Version: 1.8.0 Command: /Library/Frameworks/R.framework/Resources/bin/R CMD INSTALL CBNplot StartedAt: 2025-09-25 17:55:19 -0400 (Thu, 25 Sep 2025) EndedAt: 2025-09-25 17:55:54 -0400 (Thu, 25 Sep 2025) EllapsedTime: 34.7 seconds RetCode: 0 Status: OK