Package: CBN2Path Version: 1.0.0 Command: /home/biocbuild/bbs-3.22-bioc/R/bin/R CMD check --install=check:CBN2Path.install-out.txt --library=/home/biocbuild/bbs-3.22-bioc/R/site-library --timings CBN2Path_1.0.0.tar.gz StartedAt: 2025-11-10 21:59:21 -0500 (Mon, 10 Nov 2025) EndedAt: 2025-11-10 22:17:57 -0500 (Mon, 10 Nov 2025) EllapsedTime: 1116.2 seconds RetCode: 0 Status: OK CheckDir: CBN2Path.Rcheck Warnings: 0