Package: CBN2Path Version: 1.0.0 Command: /home/biocbuild/bbs-3.22-bioc/R/bin/R CMD build --keep-empty-dirs --no-resave-data --md5 CBN2Path StartedAt: 2025-11-11 16:44:19 -0500 (Tue, 11 Nov 2025) EndedAt: 2025-11-11 16:47:47 -0500 (Tue, 11 Nov 2025) EllapsedTime: 208.1 seconds RetCode: 1 Status: ERROR PackageFile: None PackageFileSize: NA