Package: CBEA Version: 1.8.0 Command: /home/biocbuild/R/R/bin/R CMD INSTALL CBEA StartedAt: 2025-10-06 21:18:39 -0000 (Mon, 06 Oct 2025) EndedAt: 2025-10-06 21:19:36 -0000 (Mon, 06 Oct 2025) EllapsedTime: 56.3 seconds RetCode: 0 Status: OK