Package: CBEA Version: 1.8.0 Command: /home/biocbuild/R/R/bin/R CMD build --keep-empty-dirs --no-resave-data CBEA StartedAt: 2025-10-06 23:22:30 -0000 (Mon, 06 Oct 2025) EndedAt: 2025-10-06 23:24:01 -0000 (Mon, 06 Oct 2025) EllapsedTime: 91.0 seconds RetCode: 1 Status: ERROR PackageFile: None PackageFileSize: NA