Package: CATALYST Version: 1.34.0 Command: /home/biocbuild/R/R/bin/R CMD INSTALL CATALYST StartedAt: 2025-11-13 22:06:13 -0000 (Thu, 13 Nov 2025) EndedAt: 2025-11-13 22:07:02 -0000 (Thu, 13 Nov 2025) EllapsedTime: 49.7 seconds RetCode: 0 Status: OK