Package: CATALYST Version: 1.34.0 Command: /home/biocbuild/R/R/bin/R CMD build --keep-empty-dirs --no-resave-data CATALYST StartedAt: 2025-11-14 00:18:53 -0000 (Fri, 14 Nov 2025) EndedAt: 2025-11-14 00:23:39 -0000 (Fri, 14 Nov 2025) EllapsedTime: 286.1 seconds RetCode: 0 Status: OK PackageFile: CATALYST_1.34.0.tar.gz PackageFileSize: 7.131 MiB