Package: CATALYST Version: 1.34.0 Command: /home/biocbuild/bbs-3.22-bioc/R/bin/R CMD INSTALL CATALYST StartedAt: 2025-11-11 16:00:04 -0500 (Tue, 11 Nov 2025) EndedAt: 2025-11-11 16:00:41 -0500 (Tue, 11 Nov 2025) EllapsedTime: 37.8 seconds RetCode: 0 Status: OK