Package: CATALYST Version: 1.34.0 Command: /home/biocbuild/bbs-3.22-bioc/R/bin/R CMD check --install=check:CATALYST.install-out.txt --library=/home/biocbuild/bbs-3.22-bioc/R/site-library --timings CATALYST_1.34.0.tar.gz StartedAt: 2025-11-11 21:54:54 -0500 (Tue, 11 Nov 2025) EndedAt: 2025-11-11 22:06:57 -0500 (Tue, 11 Nov 2025) EllapsedTime: 722.8 seconds RetCode: 0 Status: OK CheckDir: CATALYST.Rcheck Warnings: 0