Package: CATALYST Version: 1.32.0 Command: /Library/Frameworks/R.framework/Resources/bin/R CMD build --keep-empty-dirs --no-resave-data CATALYST StartedAt: 2025-04-21 16:11:41 -0400 (Mon, 21 Apr 2025) EndedAt: 2025-04-21 16:14:40 -0400 (Mon, 21 Apr 2025) EllapsedTime: 179.2 seconds RetCode: 1 Status: ERROR PackageFile: None PackageFileSize: NA