Package: CATALYST Version: 1.31.2 Command: rm -rf CATALYST.buildbin-libdir && mkdir CATALYST.buildbin-libdir && /Users/biocbuild/BBS/utils/build-universal.sh CATALYST_1.31.2.tar.gz /Library/Frameworks/R.framework/Resources/bin/R CATALYST.buildbin-libdir StartedAt: 2025-04-09 22:35:21 -0400 (Wed, 09 Apr 2025) EndedAt: 2025-04-09 22:35:38 -0400 (Wed, 09 Apr 2025) EllapsedTime: 17.3 seconds RetCode: 0 Status: OK PackageFile: CATALYST_1.31.2.tgz PackageFileSize: 12.8 MiB