Package: CATALYST Version: 1.32.1 Command: /Library/Frameworks/R.framework/Resources/bin/R CMD build --keep-empty-dirs --no-resave-data CATALYST StartedAt: 2025-10-13 20:31:50 -0400 (Mon, 13 Oct 2025) EndedAt: 2025-10-13 20:35:09 -0400 (Mon, 13 Oct 2025) EllapsedTime: 199.1 seconds RetCode: 0 Status: OK PackageFile: CATALYST_1.32.1.tar.gz PackageFileSize: 12.07 MiB