Package: CATALYST Version: 1.34.1 Maintainer: Helena L. Crowell MaintainerEmail: helena at crowell.eu git_url: https://git.bioconductor.org/packages/CATALYST git_branch: RELEASE_3_22 git_last_commit: 4f0aaa0 git_last_commit_date: 2025-11-20 13:42:54 -0500 (Thu, 20 Nov 2025)