Package: CARNIVAL Version: 2.20.0 Command: /home/biocbuild/bbs-3.22-bioc/R/bin/R CMD INSTALL CARNIVAL StartedAt: 2025-11-02 15:15:03 -0500 (Sun, 02 Nov 2025) EndedAt: 2025-11-02 15:15:12 -0500 (Sun, 02 Nov 2025) EllapsedTime: 9.5 seconds RetCode: 0 Status: OK