Package: CARDspa Version: 1.2.0 Command: /Library/Frameworks/R.framework/Resources/bin/R CMD INSTALL CARDspa StartedAt: 2025-11-03 15:36:58 -0500 (Mon, 03 Nov 2025) EndedAt: 2025-11-03 15:38:12 -0500 (Mon, 03 Nov 2025) EllapsedTime: 73.4 seconds RetCode: 0 Status: OK