Package: CARDspa Version: 1.2.0 Command: /Library/Frameworks/R.framework/Resources/bin/R CMD build --keep-empty-dirs --no-resave-data CARDspa StartedAt: 2025-11-03 16:21:14 -0500 (Mon, 03 Nov 2025) EndedAt: 2025-11-03 16:28:26 -0500 (Mon, 03 Nov 2025) EllapsedTime: 432.2 seconds RetCode: 0 Status: OK PackageFile: CARDspa_1.2.0.tar.gz PackageFileSize: 4.529 MiB