Package: CARDspa Version: 1.0.0 Command: /home/biocbuild/R/R/bin/R CMD INSTALL CARDspa StartedAt: 2025-10-09 20:48:37 -0000 (Thu, 09 Oct 2025) EndedAt: 2025-10-09 20:50:06 -0000 (Thu, 09 Oct 2025) EllapsedTime: 89.1 seconds RetCode: 0 Status: OK