Package: CAMERA Version: 1.66.0 Command: /home/biocbuild/bbs-3.22-bioc/R/bin/R CMD INSTALL CAMERA StartedAt: 2025-11-11 15:46:17 -0500 (Tue, 11 Nov 2025) EndedAt: 2025-11-11 15:47:08 -0500 (Tue, 11 Nov 2025) EllapsedTime: 51.4 seconds RetCode: 0 Status: OK