Package: CAMERA Version: 1.66.0 Command: /home/biocbuild/bbs-3.22-bioc/R/bin/R CMD check --install=check:CAMERA.install-out.txt --library=/home/biocbuild/bbs-3.22-bioc/R/site-library --timings CAMERA_1.66.0.tar.gz StartedAt: 2025-11-16 21:54:20 -0500 (Sun, 16 Nov 2025) EndedAt: 2025-11-16 22:07:50 -0500 (Sun, 16 Nov 2025) EllapsedTime: 809.7 seconds RetCode: 0 Status: WARNINGS CheckDir: CAMERA.Rcheck Warnings: 1