Package: CAMERA Version: 1.66.0 Command: /home/biocbuild/bbs-3.22-bioc/R/bin/R CMD build --keep-empty-dirs --no-resave-data --md5 CAMERA StartedAt: 2025-11-11 16:42:12 -0500 (Tue, 11 Nov 2025) EndedAt: 2025-11-11 16:43:33 -0500 (Tue, 11 Nov 2025) EllapsedTime: 81.1 seconds RetCode: 0 Status: OK PackageFile: CAMERA_1.66.0.tar.gz PackageFileSize: 2.439 MiB