Package: CAMERA Version: 1.66.0 Command: /Library/Frameworks/R.framework/Resources/bin/R CMD build --keep-empty-dirs --no-resave-data CAMERA StartedAt: 2025-11-03 16:20:13 -0500 (Mon, 03 Nov 2025) EndedAt: 2025-11-03 16:21:56 -0500 (Mon, 03 Nov 2025) EllapsedTime: 102.8 seconds RetCode: 0 Status: OK PackageFile: CAMERA_1.66.0.tar.gz PackageFileSize: 2.423 MiB