Package: CAMERA Version: 1.64.0 Command: /home/biocbuild/R/R/bin/R CMD build --keep-empty-dirs --no-resave-data CAMERA StartedAt: 2025-10-13 23:20:07 -0000 (Mon, 13 Oct 2025) EndedAt: 2025-10-13 23:22:01 -0000 (Mon, 13 Oct 2025) EllapsedTime: 114.0 seconds RetCode: 0 Status: OK PackageFile: CAMERA_1.64.0.tar.gz PackageFileSize: 2.405 MiB