Package: CAMERA Version: 1.64.0 Command: /Library/Frameworks/R.framework/Resources/bin/R CMD INSTALL CAMERA StartedAt: 2025-04-21 15:23:25 -0400 (Mon, 21 Apr 2025) EndedAt: 2025-04-21 15:23:26 -0400 (Mon, 21 Apr 2025) EllapsedTime: 1.1 seconds RetCode: 1 Status: ERROR