Package: CAMERA Version: 1.63.0 Command: rm -rf CAMERA.buildbin-libdir && mkdir CAMERA.buildbin-libdir && /Users/biocbuild/BBS/utils/build-universal.sh CAMERA_1.63.0.tar.gz /Library/Frameworks/R.framework/Resources/bin/R CAMERA.buildbin-libdir StartedAt: 2025-04-09 22:35:16 -0400 (Wed, 09 Apr 2025) EndedAt: 2025-04-09 22:35:38 -0400 (Wed, 09 Apr 2025) EllapsedTime: 22.5 seconds RetCode: 0 Status: OK PackageFile: CAMERA_1.63.0.tgz PackageFileSize: 3.096 MiB