Back to Multiple platform build/check report for BioC 3.22:   simplified   long
AB[C]DEFGHIJKLMNOPQRSTUVWXYZ

This page was generated on 2025-11-12 11:57 -0500 (Wed, 12 Nov 2025).

HostnameOSArch (*)R versionInstalled pkgs
nebbiolo2Linux (Ubuntu 24.04.3 LTS)x86_644.5.1 Patched (2025-08-23 r88802) -- "Great Square Root" 4902
taishanLinux (openEuler 24.03 LTS)aarch644.5.0 (2025-04-11) -- "How About a Twenty-Six" 4668
Click on any hostname to see more info about the system (e.g. compilers)      (*) as reported by 'uname -p', except on Windows and Mac OS X

All results for package CAMERA


To the developers/maintainers of the CAMERA package:
- Allow up to 24 hours (and sometimes 48 hours) for your latest push to git@git.bioconductor.org:packages/CAMERA.git to reflect on this report. See Troubleshooting Build Report for more information.
- Use the following Renviron settings to reproduce errors and warnings.
- If 'R CMD check' started to fail recently on the Linux builder(s) over a missing dependency, add the missing dependency to 'Suggests:' in your DESCRIPTION file. See Renviron.bioc for more information.

raw results

Package 276/2361HostnameOS / ArchINSTALLBUILDCHECKBUILD BIN
CAMERA 1.66.0  (landing page)
Steffen Neumann
Snapshot Date: 2025-11-11 13:45 -0500 (Tue, 11 Nov 2025)
git_url: https://git.bioconductor.org/packages/CAMERA
git_branch: RELEASE_3_22
git_last_commit: fcd3b86
git_last_commit_date: 2025-10-29 10:02:23 -0500 (Wed, 29 Oct 2025)
nebbiolo2Linux (Ubuntu 24.04.3 LTS) / x86_64  OK    OK    WARNINGS  UNNEEDED, same version is already published
taishanLinux (openEuler 24.03 LTS) / aarch64  OK    OK    TIMEOUT  



Results for Bioconductor software packages that depend directly on package CAMERA

QUICK STATSOS / ArchINSTALLBUILDCHECKBUILD BIN
nebbiolo2Linux (Ubuntu 24.04.3 LTS) / x86_64
005
005
0014
taishanLinux (openEuler 24.03 LTS) / aarch64
005
005
1013
Package 1/5HostnameOS / ArchINSTALLBUILDCHECKBUILD BIN
flagme 1.66.0  (landing page)
Mark Robinson , Riccardo Romoli
git_last_commit: cfc1743
git_last_commit_date: 2025-10-29 10:02:01 -0500
nebbiolo2Linux (Ubuntu 24.04.3 LTS) / x86_64  OK    OK    WARNINGS  UNNEEDED, same version is already published
taishanLinux (openEuler 24.03 LTS) / aarch64  OK    OK    WARNINGS  
Package 2/5HostnameOS / ArchINSTALLBUILDCHECKBUILD BIN
IPO 1.36.0  (landing page)
Thomas Lieb
git_last_commit: 94c7d49
git_last_commit_date: 2025-10-29 10:33:40 -0500
nebbiolo2Linux (Ubuntu 24.04.3 LTS) / x86_64  OK    OK    OK  UNNEEDED, same version is already published
taishanLinux (openEuler 24.03 LTS) / aarch64  OK    OK    TIMEOUT  
Package 3/5HostnameOS / ArchINSTALLBUILDCHECKBUILD BIN
LOBSTAHS 1.36.0  (landing page)
Henry Holm
git_last_commit: b35ad6c
git_last_commit_date: 2025-10-29 10:33:12 -0500
nebbiolo2Linux (Ubuntu 24.04.3 LTS) / x86_64  OK    OK    OK  UNNEEDED, same version is already published
taishanLinux (openEuler 24.03 LTS) / aarch64  OK    OK    OK  
Package 4/5HostnameOS / ArchINSTALLBUILDCHECKBUILD BIN
MAIT 1.44.0  (landing page)
Pol Sola-Santos
git_last_commit: cf370fa
git_last_commit_date: 2025-10-29 10:22:14 -0500
nebbiolo2Linux (Ubuntu 24.04.3 LTS) / x86_64  OK    OK    OK  UNNEEDED, same version is already published
taishanLinux (openEuler 24.03 LTS) / aarch64  OK    OK    OK  
Package 5/5HostnameOS / ArchINSTALLBUILDCHECKBUILD BIN
metaMS 1.46.0  (landing page)
Yann Guitton
git_last_commit: d4799db
git_last_commit_date: 2025-10-29 10:19:03 -0500
nebbiolo2Linux (Ubuntu 24.04.3 LTS) / x86_64  OK    OK    OK  UNNEEDED, same version is already published
taishanLinux (openEuler 24.03 LTS) / aarch64  OK    OK    OK