Package: CAGEr Version: 2.16.0 Command: /home/biocbuild/bbs-3.22-bioc/R/bin/R CMD INSTALL CAGEr StartedAt: 2025-11-11 16:02:29 -0500 (Tue, 11 Nov 2025) EndedAt: 2025-11-11 16:03:36 -0500 (Tue, 11 Nov 2025) EllapsedTime: 67.0 seconds RetCode: 0 Status: OK