Package: CAGEr Version: 2.16.0 Command: /home/biocbuild/bbs-3.22-bioc/R/bin/R CMD build --keep-empty-dirs --no-resave-data --md5 CAGEr StartedAt: 2025-11-11 16:41:32 -0500 (Tue, 11 Nov 2025) EndedAt: 2025-11-11 16:44:56 -0500 (Tue, 11 Nov 2025) EllapsedTime: 204.2 seconds RetCode: 0 Status: OK PackageFile: CAGEr_2.16.0.tar.gz PackageFileSize: 1.973 MiB