Package: CAGEfightR Version: 1.30.0 Command: /home/biocbuild/bbs-3.22-bioc/R/bin/R CMD INSTALL CAGEfightR StartedAt: 2025-11-11 16:01:37 -0500 (Tue, 11 Nov 2025) EndedAt: 2025-11-11 16:02:29 -0500 (Tue, 11 Nov 2025) EllapsedTime: 52.1 seconds RetCode: 0 Status: OK