Package: CAGEfightR Version: 1.28.0 Command: rm -rf CAGEfightR.buildbin-libdir && mkdir CAGEfightR.buildbin-libdir && /Users/biocbuild/BBS/utils/build-universal.sh CAGEfightR_1.28.0.tar.gz /Library/Frameworks/R.framework/Resources/bin/R CAGEfightR.buildbin-libdir StartedAt: 2025-04-21 22:28:32 -0400 (Mon, 21 Apr 2025) EndedAt: 2025-04-21 22:28:54 -0400 (Mon, 21 Apr 2025) EllapsedTime: 22.4 seconds RetCode: 0 Status: OK PackageFile: CAGEfightR_1.28.0.tgz PackageFileSize: 2.628 MiB